BEGIN:VCALENDAR
VERSION:2.0
PRODID:icalendar-ruby
CALSCALE:GREGORIAN
METHOD:PUBLISH
BEGIN:VEVENT
DTSTAMP:20260425T135711Z
UID:67-233049@gocommunity.church
DTSTART:20260509T220000Z
DTEND:20260509T233000Z
CLASS:PUBLIC
CREATED:20260411T170855
DESCRIPTION:Prime &amp\; Patriotism\nAn Elegant Patriotic DinnerSaturday\, 
 May 9\, 2026 | 6:00 PMCommunity Church of DeBary\nJoin us for an unforgett
 able evening of fellowship\, fine dining\, and patriotic celebration at Pr
 ime &amp\; Patriotism\, hosted by the 50 North Ministry of Community Churc
 h of DeBary. This elegant event commemorates the 250th Birthday of the Uni
 ted States\, honoring our nation’s rich heritage and enduring spirit.\nA
 s we gather during Older Americans Month\, we also celebrate the wisdom\, 
 contributions\, and lasting impact of older adults in our church and commu
 nity. Established in 1963\, Older Americans Month recognizes the vital rol
 e seniors play in strengthening families\, mentoring future generations\, 
 and shaping our nation. This special evening is a meaningful opportunity t
 o express our gratitude while enjoying a night of community and celebratio
 n.\nGuests will enjoy a delicious\, chef-prepared meal featuring:\n\nPrime
  Rib\nBaked Potato\nMixed Vegetables\nDinner Roll\nFreshly Brewed Iced Tea
 \n\nWhether you come with friends\, family\, or neighbors\, this memorable
  evening promises inspiration\, connection\, and patriotic pride.\nEvent D
 etails\n\nDate: Saturday\, May 9\, 2026\nTime: 6:00 PM\nLocation: Communit
 y Church of DeBary\nHosted By: 50 North Ministry\nTickets: $15 per person\
 n\nAdvance reservations are encouraged.Call: 386-848-7745Register Online: 
 gocommunity.church\nCelebrate faith\, freedom\, and fellowship as we honor
  our nation and the generations who have helped shape its legacy.
LAST-MODIFIED:20260411T170855
LOCATION:41 W Highbanks Road
SUMMARY:Prime & Patriotism
URL;VALUE=URI:https://www.gocommunity.church/events/prime-patriotism/2026-0
 5-09
ATTACH;FILENAME=Elegant-dinner-for-Americas-250th-anniversary.png;FMTTYPE=i
 mage/png:https://dq5pwpg1q8ru0.cloudfront.net/2026/04/11/21/07/44/377523bc
 -5f3c-495d-9c39-2c50cd7ca406/Elegant-dinner-for-Americas-250th-anniversary
 .png
END:VEVENT
END:VCALENDAR
