BEGIN:VCALENDAR
VERSION:2.0
PRODID:icalendar-ruby
CALSCALE:GREGORIAN
METHOD:PUBLISH
BEGIN:VEVENT
DTSTAMP:20260422T114515Z
UID:56-232777@gocommunity.church
DTSTART:20260906T161500Z
DTEND:20260906T173000Z
CLASS:PUBLIC
CREATED:20260411T154004
DESCRIPTION:Activate Step 1: Discover the Heart of Community Church\nAre yo
 u new to Community Church or ready to take your next step? Activate Step 1
  is the perfect place to begin!\nThis engaging and informative experience 
 is designed to help you learn more about who we are\, what we believe\, an
 d how you can get connected. Whether you're exploring faith\, looking for 
 a church home\, or simply curious about our ministries\, this session will
  help you discover how you belong.\nDuring Activate Step 1\, you will:\n\n
 Discover Our Mission and Vision – Learn what drives Community Church and
  how we live out our calling to be Living Proof of a Loving God to a Watch
 ing World.\nExplore Our Beliefs and Values – Gain a clear understanding 
 of our foundation and commitment to biblical teaching.\nHear Our Story –
  Learn about the history and heart behind Community Church and our impact 
 in the DeBary community.\nFind Your Place – Discover ministries\, progra
 ms\, and opportunities designed for every stage of life.\nConnect with Lea
 ders and New Friends – Meet staff and others who are also taking their n
 ext step.\n\nThis relaxed and welcoming environment is a great opportunity
  to ask questions\, build relationships\, and begin your journey toward de
 eper connection and spiritual growth.\nWho Should Attend?\n\nGuests and ne
 w attendees\nThose considering church membership\nAnyone seeking to learn 
 more about Community Church\nIndividuals ready to take their next step in 
 faith\n\nJoin us for Activate Step 1 and start your journey toward belongi
 ng\, growth\, and purpose!
LAST-MODIFIED:20260411T154004
LOCATION:41 W Highbanks Road
SUMMARY:Activate Step 1
URL;VALUE=URI:https://www.gocommunity.church/events/activate-step-1/2026-09
 -06
ATTACH;FILENAME=Activate-Step-1.png;FMTTYPE=image/png:https://dq5pwpg1q8ru0
 .cloudfront.net/2026/04/11/19/40/04/ada85e22-cb5a-4a39-a6c3-7bd37aa78468/A
 ctivate-Step-1.png
END:VEVENT
END:VCALENDAR
